BEGIN:VCALENDAR
VERSION:2.0
PRODID:-//Sojourner School Community - ECPv6.15.20//NONSGML v1.0//EN
CALSCALE:GREGORIAN
METHOD:PUBLISH
X-ORIGINAL-URL:https://sojournerschoolcommunity.com
X-WR-CALDESC:Events for Sojourner School Community
REFRESH-INTERVAL;VALUE=DURATION:PT1H
X-Robots-Tag:noindex
X-PUBLISHED-TTL:PT1H
BEGIN:VTIMEZONE
TZID:America/Los_Angeles
BEGIN:DAYLIGHT
TZOFFSETFROM:-0800
TZOFFSETTO:-0700
TZNAME:PDT
DTSTART:20230312T100000
END:DAYLIGHT
BEGIN:STANDARD
TZOFFSETFROM:-0700
TZOFFSETTO:-0800
TZNAME:PST
DTSTART:20231105T090000
END:STANDARD
BEGIN:DAYLIGHT
TZOFFSETFROM:-0800
TZOFFSETTO:-0700
TZNAME:PDT
DTSTART:20240310T100000
END:DAYLIGHT
BEGIN:STANDARD
TZOFFSETFROM:-0700
TZOFFSETTO:-0800
TZNAME:PST
DTSTART:20241103T090000
END:STANDARD
BEGIN:DAYLIGHT
TZOFFSETFROM:-0800
TZOFFSETTO:-0700
TZNAME:PDT
DTSTART:20250309T100000
END:DAYLIGHT
BEGIN:STANDARD
TZOFFSETFROM:-0700
TZOFFSETTO:-0800
TZNAME:PST
DTSTART:20251102T090000
END:STANDARD
END:VTIMEZONE
BEGIN:VEVENT
DTSTART;TZID=America/Los_Angeles:20240516T180000
DTEND;TZID=America/Los_Angeles:20240516T193000
DTSTAMP:20260424T194713
CREATED:20231125T192429Z
LAST-MODIFIED:20231201T052604Z
UID:11120-1715882400-1715887800@sojournerschoolcommunity.com
SUMMARY:Community Mtg  (meet.google.com/qbi-xswi-afb)
DESCRIPTION:Community Meetings give the Sojourner community the opportunity to better their understanding of the role that the PTA and Sojourner Education Foundation hold within our school community. Attending meetings allows families to become more involved in their child’s education\, gives them the opportunity to understand the importance of fundraising and volunteering\, and how it’s integral to the longevity and robustness of school enrichment and special programming\, and lastly\,  it builds a bond between families\, administrators and teachers. \nCommunity meets are held in person at the school library and streamed online for those that cannot attend in person. Children are welcome to enjoy a quiet activity in the library during the meeting. 5/16/24 6:30-7:30pm Community Mtg  (meet.google.com/qbi-xswi-afb)
URL:https://sojournerschoolcommunity.com/event/community-mtg-meet-google-com-qbi-xswi-afb-3/
LOCATION:Library
CATEGORIES:PTA,SEF
ORGANIZER;CN="PTA":MAILTO:pta@sojournerschoolcommunity.com
END:VEVENT
END:VCALENDAR