BEGIN:VCALENDAR
VERSION:2.0
PRODID:-//Sojourner School Community - ECPv6.15.20//NONSGML v1.0//EN
CALSCALE:GREGORIAN
METHOD:PUBLISH
X-ORIGINAL-URL:https://sojournerschoolcommunity.com
X-WR-CALDESC:Events for Sojourner School Community
REFRESH-INTERVAL;VALUE=DURATION:PT1H
X-Robots-Tag:noindex
X-PUBLISHED-TTL:PT1H
BEGIN:VTIMEZONE
TZID:America/Los_Angeles
BEGIN:DAYLIGHT
TZOFFSETFROM:-0800
TZOFFSETTO:-0700
TZNAME:PDT
DTSTART:20240310T100000
END:DAYLIGHT
BEGIN:STANDARD
TZOFFSETFROM:-0700
TZOFFSETTO:-0800
TZNAME:PST
DTSTART:20241103T090000
END:STANDARD
BEGIN:DAYLIGHT
TZOFFSETFROM:-0800
TZOFFSETTO:-0700
TZNAME:PDT
DTSTART:20250309T100000
END:DAYLIGHT
BEGIN:STANDARD
TZOFFSETFROM:-0700
TZOFFSETTO:-0800
TZNAME:PST
DTSTART:20251102T090000
END:STANDARD
BEGIN:DAYLIGHT
TZOFFSETFROM:-0800
TZOFFSETTO:-0700
TZNAME:PDT
DTSTART:20260308T100000
END:DAYLIGHT
BEGIN:STANDARD
TZOFFSETFROM:-0700
TZOFFSETTO:-0800
TZNAME:PST
DTSTART:20261101T090000
END:STANDARD
END:VTIMEZONE
BEGIN:VEVENT
DTSTART;TZID=America/Los_Angeles:20250926T133000
DTEND;TZID=America/Los_Angeles:20250926T140000
DTSTAMP:20260423T214239
CREATED:20250903T204457Z
LAST-MODIFIED:20250918T182910Z
UID:12010-1758893400-1758895200@sojournerschoolcommunity.com
SUMMARY:Jog-A-Thon (@ School Track)
DESCRIPTION:The Jog-A-Thon is the PTA’s largest fundraiser of the year\, and your financial contribution will support school shirts\, community enrichment activities\, swim days and more! The per student goal is $45\, or $8\,000 altogether. \nFamily is welcome to come watch and cheer on students\, even if they’re not volunteering. All visitors must check in in the office first. \nRemind your student to wear tennis shoes\, silly socks and school colors (blue and purple) and get ready to run! \nDonate via PayPal at www.paypal.com/ncp/payment/8A3GGEDVBXVTQ
URL:https://sojournerschoolcommunity.com/event/jog-a-thon-130p/
ORGANIZER;CN="PTA":MAILTO:pta@sojournerschoolcommunity.com
END:VEVENT
END:VCALENDAR