BEGIN:VCALENDAR
VERSION:2.0
PRODID:-//Sojourner School Community - ECPv6.15.20//NONSGML v1.0//EN
CALSCALE:GREGORIAN
METHOD:PUBLISH
X-ORIGINAL-URL:https://sojournerschoolcommunity.com
X-WR-CALDESC:Events for Sojourner School Community
REFRESH-INTERVAL;VALUE=DURATION:PT1H
X-Robots-Tag:noindex
X-PUBLISHED-TTL:PT1H
BEGIN:VTIMEZONE
TZID:America/Los_Angeles
BEGIN:DAYLIGHT
TZOFFSETFROM:-0800
TZOFFSETTO:-0700
TZNAME:PDT
DTSTART:20240310T100000
END:DAYLIGHT
BEGIN:STANDARD
TZOFFSETFROM:-0700
TZOFFSETTO:-0800
TZNAME:PST
DTSTART:20241103T090000
END:STANDARD
BEGIN:DAYLIGHT
TZOFFSETFROM:-0800
TZOFFSETTO:-0700
TZNAME:PDT
DTSTART:20250309T100000
END:DAYLIGHT
BEGIN:STANDARD
TZOFFSETFROM:-0700
TZOFFSETTO:-0800
TZNAME:PST
DTSTART:20251102T090000
END:STANDARD
BEGIN:DAYLIGHT
TZOFFSETFROM:-0800
TZOFFSETTO:-0700
TZNAME:PDT
DTSTART:20260308T100000
END:DAYLIGHT
BEGIN:STANDARD
TZOFFSETFROM:-0700
TZOFFSETTO:-0800
TZNAME:PST
DTSTART:20261101T090000
END:STANDARD
END:VTIMEZONE
BEGIN:VEVENT
DTSTART;TZID=America/Los_Angeles:20251114T183000
DTEND;TZID=America/Los_Angeles:20251114T200000
DTSTAMP:20260423T164418
CREATED:20250904T201000Z
LAST-MODIFIED:20251114T194742Z
UID:12016-1763145000-1763150400@sojournerschoolcommunity.com
SUMMARY:Fall Family Night and SEF Raffle Drawing (at school)
DESCRIPTION:Bring your family to an evening of community and FUN! Please join us for a variety of games to play including an inflatable obstacle course\, Sojourner T-shirt tie-dying\, Experiment PDX staff with live bugs to hold and science experiments\, and outer space themed activities! \nSojourner Education Foundation (SEF) will be selecting the raffle winner at the event. Ticket sales closed 11/13 at midnight. Last minute tickets can be purchased during the first hour of the Fall Festival. \nReserve your free pizza dinner here:https://docs.google.com/…/1QvDfhyGgPZV4p6qJOhQS…/edit…\nSign up to volunteer here:https://helpcounterweb.com/ci/signup/1243595a842
URL:https://sojournerschoolcommunity.com/event/fall-family-night-at-school/
CATEGORIES:PTA
END:VEVENT
END:VCALENDAR