BEGIN:VCALENDAR
VERSION:2.0
PRODID:-//Sojourner School Community - ECPv6.15.20//NONSGML v1.0//EN
CALSCALE:GREGORIAN
METHOD:PUBLISH
X-ORIGINAL-URL:https://sojournerschoolcommunity.com
X-WR-CALDESC:Events for Sojourner School Community
REFRESH-INTERVAL;VALUE=DURATION:PT1H
X-Robots-Tag:noindex
X-PUBLISHED-TTL:PT1H
BEGIN:VTIMEZONE
TZID:America/Los_Angeles
BEGIN:DAYLIGHT
TZOFFSETFROM:-0800
TZOFFSETTO:-0700
TZNAME:PDT
DTSTART:20250309T100000
END:DAYLIGHT
BEGIN:STANDARD
TZOFFSETFROM:-0700
TZOFFSETTO:-0800
TZNAME:PST
DTSTART:20251102T090000
END:STANDARD
BEGIN:DAYLIGHT
TZOFFSETFROM:-0800
TZOFFSETTO:-0700
TZNAME:PDT
DTSTART:20260308T100000
END:DAYLIGHT
BEGIN:STANDARD
TZOFFSETFROM:-0700
TZOFFSETTO:-0800
TZNAME:PST
DTSTART:20261101T090000
END:STANDARD
BEGIN:DAYLIGHT
TZOFFSETFROM:-0800
TZOFFSETTO:-0700
TZNAME:PDT
DTSTART:20270314T100000
END:DAYLIGHT
BEGIN:STANDARD
TZOFFSETFROM:-0700
TZOFFSETTO:-0800
TZNAME:PST
DTSTART:20271107T090000
END:STANDARD
END:VTIMEZONE
BEGIN:VEVENT
DTSTART;TZID=America/Los_Angeles:20260204T170000
DTEND;TZID=America/Los_Angeles:20260204T200000
DTSTAMP:20260423T115529
CREATED:20250918T183733Z
LAST-MODIFIED:20260204T172641Z
UID:12065-1770224400-1770235200@sojournerschoolcommunity.com
SUMMARY:Laser Tag & Community Meeting
DESCRIPTION:Help PTA plan on who’s attending. Complete this form: https://forms.gle/KoqmweftQvaTGFfh6\n\n*5:00-6:00 Primary hour (or those needing a slower pace).\n*6:00-8:00 all other grades are welcome to join the fun.\n*Parents can play too!\n*Light snacks provided…free soda!\n*Brief Community Meeting from 6:15-6:45 (ish)\n*Arcade and additional snacks purchased from Ultrazone are not provided by the PTA.
URL:https://sojournerschoolcommunity.com/event/laser-tag-community-meeting/
CATEGORIES:PTA,SEF
END:VEVENT
END:VCALENDAR