BEGIN:VCALENDAR
VERSION:2.0
PRODID:-//Sojourner School Community - ECPv6.15.20//NONSGML v1.0//EN
CALSCALE:GREGORIAN
METHOD:PUBLISH
X-WR-CALNAME:Sojourner School Community
X-ORIGINAL-URL:https://sojournerschoolcommunity.com
X-WR-CALDESC:Events for Sojourner School Community
REFRESH-INTERVAL;VALUE=DURATION:PT1H
X-Robots-Tag:noindex
X-PUBLISHED-TTL:PT1H
BEGIN:VTIMEZONE
TZID:America/Los_Angeles
BEGIN:DAYLIGHT
TZOFFSETFROM:-0800
TZOFFSETTO:-0700
TZNAME:PDT
DTSTART:20250309T100000
END:DAYLIGHT
BEGIN:STANDARD
TZOFFSETFROM:-0700
TZOFFSETTO:-0800
TZNAME:PST
DTSTART:20251102T090000
END:STANDARD
BEGIN:DAYLIGHT
TZOFFSETFROM:-0800
TZOFFSETTO:-0700
TZNAME:PDT
DTSTART:20260308T100000
END:DAYLIGHT
BEGIN:STANDARD
TZOFFSETFROM:-0700
TZOFFSETTO:-0800
TZNAME:PST
DTSTART:20261101T090000
END:STANDARD
BEGIN:DAYLIGHT
TZOFFSETFROM:-0800
TZOFFSETTO:-0700
TZNAME:PDT
DTSTART:20270314T100000
END:DAYLIGHT
BEGIN:STANDARD
TZOFFSETFROM:-0700
TZOFFSETTO:-0800
TZNAME:PST
DTSTART:20271107T090000
END:STANDARD
END:VTIMEZONE
BEGIN:VEVENT
DTSTART;TZID=America/Los_Angeles:20260107T140000
DTEND;TZID=America/Los_Angeles:20260107T200000
DTSTAMP:20260423T160517
CREATED:20250918T182029Z
LAST-MODIFIED:20250918T182029Z
UID:12057-1767794400-1767816000@sojournerschoolcommunity.com
SUMMARY:Luna's Dine Out (PTA Fundraiser)
DESCRIPTION:
URL:https://sojournerschoolcommunity.com/event/lunas-dine-out-pta-fundraiser/
END:VEVENT
BEGIN:VEVENT
DTSTART;TZID=America/Los_Angeles:20260115T183000
DTEND;TZID=America/Los_Angeles:20260115T193000
DTSTAMP:20260423T160517
CREATED:20251114T191824Z
LAST-MODIFIED:20251114T191824Z
UID:12196-1768501800-1768505400@sojournerschoolcommunity.com
SUMMARY:Auction Committee Meeting (Virtual)
DESCRIPTION:Join us for a planning meeting for our annual auction\, scheduled for March 7\, 2026. \nThis committee will meet monthly\, online on the first Thursday\, until Mar 5\, 2026. \nScheduled dates are: November 6\, December 4\, January 15\, January 29\, February 12\, February 26 and March 5 \nSend us an email if you would like a reoccurring calendar invite – sef@sojournerschoolcommunity.com \nMeeting details: \n\nMonthly\, first Thursday\n6:30 – 7:30 p.m.\nCasual\nOnline via Google Meet: meet.google.com/yuu-tgfd-pxk \nJoin by phone: ‪(US) +1 417-448-6142‬ PIN: ‪983 761 082‬#
URL:https://sojournerschoolcommunity.com/event/auction-committee-meeting-virtual-2/
CATEGORIES:Auction
END:VEVENT
BEGIN:VEVENT
DTSTART;TZID=America/Los_Angeles:20260129T183000
DTEND;TZID=America/Los_Angeles:20260129T193000
DTSTAMP:20260423T160517
CREATED:20251114T191915Z
LAST-MODIFIED:20251114T191915Z
UID:12198-1769711400-1769715000@sojournerschoolcommunity.com
SUMMARY:SEF Auction Committee Meeting (Virtual)
DESCRIPTION:Join us for a planning meeting for our annual auction\, scheduled for March 7\, 2026. \nThis committee will meet monthly\, online on the first Thursday\, until Mar 5\, 2026. \nScheduled dates are: November 6\, December 4\, January 15\, January 29\, February 12\, February 26 and March 5 \nSend us an email if you would like a reoccurring calendar invite – sef@sojournerschoolcommunity.com \nMeeting details: \n\nMonthly\, first Thursday\n6:30 – 7:30 p.m.\nCasual\nOnline via Google Meet: meet.google.com/yuu-tgfd-pxk \nJoin by phone: ‪(US) +1 417-448-6142‬ PIN: ‪983 761 082‬#
URL:https://sojournerschoolcommunity.com/event/sef-auction-committee-meeting-virtual/
CATEGORIES:Auction
END:VEVENT
BEGIN:VEVENT
DTSTART;TZID=America/Los_Angeles:20260204T170000
DTEND;TZID=America/Los_Angeles:20260204T200000
DTSTAMP:20260423T160517
CREATED:20250918T183733Z
LAST-MODIFIED:20260204T172641Z
UID:12065-1770224400-1770235200@sojournerschoolcommunity.com
SUMMARY:Laser Tag & Community Meeting
DESCRIPTION:Help PTA plan on who’s attending. Complete this form: https://forms.gle/KoqmweftQvaTGFfh6\n\n*5:00-6:00 Primary hour (or those needing a slower pace).\n*6:00-8:00 all other grades are welcome to join the fun.\n*Parents can play too!\n*Light snacks provided…free soda!\n*Brief Community Meeting from 6:15-6:45 (ish)\n*Arcade and additional snacks purchased from Ultrazone are not provided by the PTA.
URL:https://sojournerschoolcommunity.com/event/laser-tag-community-meeting/
CATEGORIES:PTA,SEF
END:VEVENT
BEGIN:VEVENT
DTSTART;TZID=America/Los_Angeles:20260212T080000
DTEND;TZID=America/Los_Angeles:20260212T090000
DTSTAMP:20260423T160517
CREATED:20260204T173952Z
LAST-MODIFIED:20260204T174238Z
UID:12253-1770883200-1770886800@sojournerschoolcommunity.com
SUMMARY:World Music Celebration (gym)
DESCRIPTION:Come listen to what students have learned in their Orff class as Sojourner students play music from around the world.  This event is hosted during school hours. Please enter through the gym doors. \n  \nOrff class would not be possible without the fundraising efforts of our Foundation. Please consider supporting our magnet programs by attending the upcoming auction or making a direct donation so we can sustain our amazing classes and magnet programs (Orff\, Flow\, Violin). \n\n\nWe need your help \nPlease consider helping with set up (Wednesday\, Feb 11 at 7pm) or clean up after the event (Thursday\, Feb 12 at 9am). Sign up on Help Counter – https://helpcounterweb.com/ci/signup/12435a64a1
URL:https://sojournerschoolcommunity.com/event/world-music-celebration-gym/
END:VEVENT
BEGIN:VEVENT
DTSTART;TZID=America/Los_Angeles:20260212T183000
DTEND;TZID=America/Los_Angeles:20260212T193000
DTSTAMP:20260423T160517
CREATED:20251114T192037Z
LAST-MODIFIED:20251114T192037Z
UID:12200-1770921000-1770924600@sojournerschoolcommunity.com
SUMMARY:SEF Auction Committee Meeting (Virtual)
DESCRIPTION:Join us for a planning meeting for our annual auction\, scheduled for March 7\, 2026. \nThis committee will meet monthly\, online on the first Thursday\, until Mar 5\, 2026. \nScheduled dates are: November 6\, December 4\, January 15\, January 29\, February 12\, February 26 and March 5 \nSend us an email if you would like a reoccurring calendar invite – sef@sojournerschoolcommunity.com \nMeeting details: \n\nMonthly\, first Thursday\n6:30 – 7:30 p.m.\nCasual\nOnline via Google Meet: meet.google.com/yuu-tgfd-pxk \nJoin by phone: ‪(US) +1 417-448-6142‬ PIN: ‪983 761 082‬#
URL:https://sojournerschoolcommunity.com/event/sef-auction-committee-meeting-virtual-2/
CATEGORIES:Auction,SEF
END:VEVENT
BEGIN:VEVENT
DTSTART;TZID=America/Los_Angeles:20260226T183000
DTEND;TZID=America/Los_Angeles:20260226T193000
DTSTAMP:20260423T160517
CREATED:20251114T192119Z
LAST-MODIFIED:20251114T192119Z
UID:12202-1772130600-1772134200@sojournerschoolcommunity.com
SUMMARY:SEF Auction Committee Meeting (Virtual)
DESCRIPTION:Join us for a planning meeting for our annual auction\, scheduled for March 7\, 2026. \nThis committee will meet monthly\, online on the first Thursday\, until Mar 5\, 2026. \nScheduled dates are: November 6\, December 4\, January 15\, January 29\, February 12\, February 26 and March 5 \nSend us an email if you would like a reoccurring calendar invite – sef@sojournerschoolcommunity.com \nMeeting details: \n\nMonthly\, first Thursday\n6:30 – 7:30 p.m.\nCasual\nOnline via Google Meet: meet.google.com/yuu-tgfd-pxk \nJoin by phone: ‪(US) +1 417-448-6142‬ PIN: ‪983 761 082‬#
URL:https://sojournerschoolcommunity.com/event/sef-auction-committee-meeting-virtual-3/
CATEGORIES:Auction,SEF
END:VEVENT
BEGIN:VEVENT
DTSTART;TZID=America/Los_Angeles:20260305T183000
DTEND;TZID=America/Los_Angeles:20260305T193000
DTSTAMP:20260423T160517
CREATED:20251114T192225Z
LAST-MODIFIED:20251114T192225Z
UID:12204-1772735400-1772739000@sojournerschoolcommunity.com
SUMMARY:SEF Final Auction Committee Meeting (Virtual)
DESCRIPTION:Join us for a planning meeting for our annual auction\, scheduled for March 7\, 2026. \nThis committee will meet monthly\, online on the first Thursday\, until Mar 5\, 2026. \nScheduled dates are: November 6\, December 4\, January 15\, January 29\, February 12\, February 26 and March 5 \nSend us an email if you would like a reoccurring calendar invite – sef@sojournerschoolcommunity.com \nMeeting details: \n\nMonthly\, first Thursday\n6:30 – 7:30 p.m.\nCasual\nOnline via Google Meet: meet.google.com/yuu-tgfd-pxk \nJoin by phone: ‪(US) +1 417-448-6142‬ PIN: ‪983 761 082‬#
URL:https://sojournerschoolcommunity.com/event/sef-final-auction-committee-meeting-virtual/
CATEGORIES:Auction,SEF
END:VEVENT
BEGIN:VEVENT
DTSTART;TZID=America/Los_Angeles:20260307T160000
DTEND;TZID=America/Los_Angeles:20260307T200000
DTSTAMP:20260423T160517
CREATED:20251114T192847Z
LAST-MODIFIED:20251114T192847Z
UID:12206-1772899200-1772913600@sojournerschoolcommunity.com
SUMMARY:SEF Annual Auction (Milwaukie Center)
DESCRIPTION:You’re invited! Get your tickets! \nWe can’t wait to see you at The Milwaukie Community Center for a night of togetherness celebrating and sustaining our favorite elementary school! Join us for an evening of connection\, celebration\, & community impact at Sojourner’s largest fundraiser of the year to raise money for our violin\, Flow and ORFF classes! \n🍷 Evening Highlights   \n4:00 p.m. – 9 p.m. \nMilwaukie Center:  5440 SE Kellogg Creek Dr\, Milwaukie OR 97222 \nRaffles • Silent Auction • Live Auction \nDinner & Drinks: Beer\, Wine\, Mocktail\, Non-Alcoholic Beverages \nBuy your tickets: Available to purchase starting February 1 (Ticket price goes toward fundraising goal)  \n2026 Sojourner Auction \n______________ \n💻 Support From Home💻 \nCan’t make it in person\, but still want to support us? You can still make a difference! \n\nBuy a raffle ticket\nBid in the online auction (launching March 1)\nMake a direct donation
URL:https://sojournerschoolcommunity.com/event/sef-annual-auction-milwaukie-center/
CATEGORIES:Auction,SEF
END:VEVENT
BEGIN:VEVENT
DTSTART;TZID=America/Los_Angeles:20260415T183000
DTEND;TZID=America/Los_Angeles:20260415T193000
DTSTAMP:20260423T160517
CREATED:20250918T185025Z
LAST-MODIFIED:20251002T171622Z
UID:12067-1776277800-1776281400@sojournerschoolcommunity.com
SUMMARY:PTA/SEF Community Meeting (Library and Online)
DESCRIPTION:PTA and SEF are hosting our first community meeting of the year to share exciting details about the school\, fundraising needs and goals\, as well as program updates from the teachers and Principal Z. \nThis meeting is hybrid\, but we hope you can join us in-person in the library for better connection. \nKids are welcome to do a quiet activity or play on the visible playground. \nGoogle Meet link: meet.google.com/oit-jubx-rge
URL:https://sojournerschoolcommunity.com/event/pta-sef-community-meeting-library-and-online-2/
END:VEVENT
BEGIN:VEVENT
DTSTART;VALUE=DATE:20260501
DTEND;VALUE=DATE:20260502
DTSTAMP:20260423T160517
CREATED:20251114T193735Z
LAST-MODIFIED:20251114T193735Z
UID:12208-1777593600-1777679999@sojournerschoolcommunity.com
SUMMARY:Spring Family Day w/ Sojourner's Manhanga Band
DESCRIPTION:More details coming in the Spring. Check back for time and detail.
URL:https://sojournerschoolcommunity.com/event/spring-family-day-w-sojourners-manhanga-band/
CATEGORIES:PTA
END:VEVENT
BEGIN:VEVENT
DTSTART;VALUE=DATE:20260504
DTEND;VALUE=DATE:20260509
DTSTAMP:20260423T160517
CREATED:20251114T194216Z
LAST-MODIFIED:20251114T194216Z
UID:12213-1777852800-1778284799@sojournerschoolcommunity.com
SUMMARY:Staff Appreciation Week
DESCRIPTION:Sign up to bring a lunch item\, make appreciation cards\, donate flowers and more. Details and sign up coming late April.
URL:https://sojournerschoolcommunity.com/event/staff-appreciation-week/
CATEGORIES:PTA
END:VEVENT
BEGIN:VEVENT
DTSTART;TZID=America/Los_Angeles:20260602T160000
DTEND;TZID=America/Los_Angeles:20260602T200000
DTSTAMP:20260423T160517
CREATED:20251114T193919Z
LAST-MODIFIED:20251114T193919Z
UID:12211-1780416000-1780430400@sojournerschoolcommunity.com
SUMMARY:Mike's Dine Out (PTA Fundraiser)
DESCRIPTION:Mention Sojourner.
URL:https://sojournerschoolcommunity.com/event/mikes-dine-out-pta-fundraiser/
CATEGORIES:PTA
END:VEVENT
BEGIN:VEVENT
DTSTART;TZID=America/Los_Angeles:20260603T180000
DTEND;TZID=America/Los_Angeles:20260606T180000
DTSTAMP:20260423T160517
CREATED:20260401T182832Z
LAST-MODIFIED:20260401T183017Z
UID:12286-1780509600-1780768800@sojournerschoolcommunity.com
SUMMARY:Popsicle Playdate
DESCRIPTION:Join us in welcoming incoming kindy’s and have a play date with school friends. More details to come.
URL:https://sojournerschoolcommunity.com/event/popsicle-playdate/
CATEGORIES:PTA
END:VEVENT
BEGIN:VEVENT
DTSTART;TZID=America/Los_Angeles:20260611T123000
DTEND;TZID=America/Los_Angeles:20260611T140000
DTSTAMP:20260423T160517
CREATED:20260401T182024Z
LAST-MODIFIED:20260401T182024Z
UID:12282-1781181000-1781186400@sojournerschoolcommunity.com
SUMMARY:Last Day of School / Field Day
DESCRIPTION:Join us for a fun end to the school year at Field Day on the last day of school at the end of the day. There are lots of stations and fun activities for the students such as face painting\, tug-o-war\, bubble station\, gem dig and so much more. \nWe need parents to help volunteer at stations and help set up. More details to come weeks prior to the event. Make sure you have your volunteer paperwork completed.
URL:https://sojournerschoolcommunity.com/event/last-day-of-school-field-day/
CATEGORIES:PTA,School Administration
END:VEVENT
END:VCALENDAR