BEGIN:VCALENDAR
VERSION:2.0
PRODID:-//Sojourner School Community - ECPv6.15.20//NONSGML v1.0//EN
CALSCALE:GREGORIAN
METHOD:PUBLISH
X-WR-CALNAME:Sojourner School Community
X-ORIGINAL-URL:https://sojournerschoolcommunity.com
X-WR-CALDESC:Events for Sojourner School Community
REFRESH-INTERVAL;VALUE=DURATION:PT1H
X-Robots-Tag:noindex
X-PUBLISHED-TTL:PT1H
BEGIN:VTIMEZONE
TZID:America/Los_Angeles
BEGIN:DAYLIGHT
TZOFFSETFROM:-0800
TZOFFSETTO:-0700
TZNAME:PDT
DTSTART:20230312T100000
END:DAYLIGHT
BEGIN:STANDARD
TZOFFSETFROM:-0700
TZOFFSETTO:-0800
TZNAME:PST
DTSTART:20231105T090000
END:STANDARD
BEGIN:DAYLIGHT
TZOFFSETFROM:-0800
TZOFFSETTO:-0700
TZNAME:PDT
DTSTART:20240310T100000
END:DAYLIGHT
BEGIN:STANDARD
TZOFFSETFROM:-0700
TZOFFSETTO:-0800
TZNAME:PST
DTSTART:20241103T090000
END:STANDARD
BEGIN:DAYLIGHT
TZOFFSETFROM:-0800
TZOFFSETTO:-0700
TZNAME:PDT
DTSTART:20250309T100000
END:DAYLIGHT
BEGIN:STANDARD
TZOFFSETFROM:-0700
TZOFFSETTO:-0800
TZNAME:PST
DTSTART:20251102T090000
END:STANDARD
BEGIN:DAYLIGHT
TZOFFSETFROM:-0800
TZOFFSETTO:-0700
TZNAME:PDT
DTSTART:20260308T100000
END:DAYLIGHT
BEGIN:STANDARD
TZOFFSETFROM:-0700
TZOFFSETTO:-0800
TZNAME:PST
DTSTART:20261101T090000
END:STANDARD
END:VTIMEZONE
BEGIN:VEVENT
DTSTART;VALUE=DATE:20250414
DTEND;VALUE=DATE:20250415
DTSTAMP:20260423T170142
CREATED:20240710T030229Z
LAST-MODIFIED:20240710T030229Z
UID:11673-1744588800-1744675199@sojournerschoolcommunity.com
SUMMARY:No School - Work Day/In-service Day
DESCRIPTION:
URL:https://sojournerschoolcommunity.com/event/no-school-work-day-in-service-day-5/
CATEGORIES:No School
END:VEVENT
BEGIN:VEVENT
DTSTART;VALUE=DATE:20250411
DTEND;VALUE=DATE:20250412
DTSTAMP:20260423T170142
CREATED:20240710T030143Z
LAST-MODIFIED:20240710T030143Z
UID:11671-1744329600-1744415999@sojournerschoolcommunity.com
SUMMARY:No School - Elementary- Report Card Prep Day
DESCRIPTION:
URL:https://sojournerschoolcommunity.com/event/no-school-elementary-report-card-prep-day/
CATEGORIES:No School
END:VEVENT
BEGIN:VEVENT
DTSTART;VALUE=DATE:20250324
DTEND;VALUE=DATE:20250329
DTSTAMP:20260423T170142
CREATED:20240710T030045Z
LAST-MODIFIED:20240710T030045Z
UID:11669-1742774400-1743206399@sojournerschoolcommunity.com
SUMMARY:No School - Spring Break
DESCRIPTION:
URL:https://sojournerschoolcommunity.com/event/no-school-spring-break-2/
CATEGORIES:No School
END:VEVENT
BEGIN:VEVENT
DTSTART;TZID=America/Los_Angeles:20250308T180000
DTEND;TZID=America/Los_Angeles:20250308T210000
DTSTAMP:20260423T170142
CREATED:20240919T040850Z
LAST-MODIFIED:20240919T040850Z
UID:11715-1741456800-1741467600@sojournerschoolcommunity.com
SUMMARY:Annual Auction
DESCRIPTION:Save The Date for 3/8/2025
URL:https://sojournerschoolcommunity.com/event/annual-auction/
END:VEVENT
BEGIN:VEVENT
DTSTART;VALUE=DATE:20250224
DTEND;VALUE=DATE:20250225
DTSTAMP:20260423T170142
CREATED:20240710T030000Z
LAST-MODIFIED:20240710T030000Z
UID:11667-1740355200-1740441599@sojournerschoolcommunity.com
SUMMARY:No School - Work Day/In-Service Day
DESCRIPTION:
URL:https://sojournerschoolcommunity.com/event/no-school-work-day-in-service-day-4/
CATEGORIES:No School
END:VEVENT
BEGIN:VEVENT
DTSTART;VALUE=DATE:20250217
DTEND;VALUE=DATE:20250218
DTSTAMP:20260423T170142
CREATED:20240710T025925Z
LAST-MODIFIED:20240710T025925Z
UID:11665-1739750400-1739836799@sojournerschoolcommunity.com
SUMMARY:No School - President's Day
DESCRIPTION:
URL:https://sojournerschoolcommunity.com/event/no-school-presidents-day-2/
CATEGORIES:No School
END:VEVENT
BEGIN:VEVENT
DTSTART;VALUE=DATE:20250131
DTEND;VALUE=DATE:20250201
DTSTAMP:20260423T170142
CREATED:20240710T025837Z
LAST-MODIFIED:20240710T025837Z
UID:11663-1738281600-1738367999@sojournerschoolcommunity.com
SUMMARY:No School - Report Card Prep Day
DESCRIPTION:
URL:https://sojournerschoolcommunity.com/event/no-school-report-card-prep-day-2/
CATEGORIES:No School
END:VEVENT
BEGIN:VEVENT
DTSTART;VALUE=DATE:20250120
DTEND;VALUE=DATE:20250121
DTSTAMP:20260423T170142
CREATED:20240710T025756Z
LAST-MODIFIED:20240710T025756Z
UID:11661-1737331200-1737417599@sojournerschoolcommunity.com
SUMMARY:No School - Work Day/In-service Day
DESCRIPTION:
URL:https://sojournerschoolcommunity.com/event/no-school-work-day-in-service-day-3/
CATEGORIES:No School
END:VEVENT
BEGIN:VEVENT
DTSTART;VALUE=DATE:20250106
DTEND;VALUE=DATE:20250107
DTSTAMP:20260423T170142
CREATED:20240710T025646Z
LAST-MODIFIED:20240710T025706Z
UID:11658-1736121600-1736207999@sojournerschoolcommunity.com
SUMMARY:No School - Work Day/In-service Day
DESCRIPTION:
URL:https://sojournerschoolcommunity.com/event/no-school-elementary-work-day-in-service-day/
CATEGORIES:No School
END:VEVENT
BEGIN:VEVENT
DTSTART;VALUE=DATE:20241223
DTEND;VALUE=DATE:20250104
DTSTAMP:20260423T170142
CREATED:20240710T025536Z
LAST-MODIFIED:20240710T025536Z
UID:11656-1734912000-1735948799@sojournerschoolcommunity.com
SUMMARY:No School - Winter Break
DESCRIPTION:
URL:https://sojournerschoolcommunity.com/event/no-school-winter-break-2/
CATEGORIES:No School
END:VEVENT
BEGIN:VEVENT
DTSTART;VALUE=DATE:20241129
DTEND;VALUE=DATE:20241130
DTSTAMP:20260423T170142
CREATED:20240710T025409Z
LAST-MODIFIED:20240710T025409Z
UID:11654-1732838400-1732924799@sojournerschoolcommunity.com
SUMMARY:No School - Thanksgiving Break
DESCRIPTION:
URL:https://sojournerschoolcommunity.com/event/no-school-thanksgiving-break-3/
CATEGORIES:No School
END:VEVENT
BEGIN:VEVENT
DTSTART;VALUE=DATE:20241128
DTEND;VALUE=DATE:20241129
DTSTAMP:20260423T170142
CREATED:20240710T025346Z
LAST-MODIFIED:20240710T025346Z
UID:11652-1732752000-1732838399@sojournerschoolcommunity.com
SUMMARY:No School - Thanksgiving Break
DESCRIPTION:
URL:https://sojournerschoolcommunity.com/event/no-school-thanksgiving-break-2/
CATEGORIES:No School
END:VEVENT
BEGIN:VEVENT
DTSTART;VALUE=DATE:20241127
DTEND;VALUE=DATE:20241128
DTSTAMP:20260423T170142
CREATED:20240710T025223Z
LAST-MODIFIED:20240710T025322Z
UID:11649-1732665600-1732751999@sojournerschoolcommunity.com
SUMMARY:No School - Thanksgiving Break
DESCRIPTION:
URL:https://sojournerschoolcommunity.com/event/no-school-thanksgiving-break/
CATEGORIES:No School
END:VEVENT
BEGIN:VEVENT
DTSTART;VALUE=DATE:20241125
DTEND;VALUE=DATE:20241127
DTSTAMP:20260423T170142
CREATED:20240710T025149Z
LAST-MODIFIED:20240710T025149Z
UID:11647-1732492800-1732665599@sojournerschoolcommunity.com
SUMMARY:No school- Conference Day
DESCRIPTION:
URL:https://sojournerschoolcommunity.com/event/no-school-conference-day/
CATEGORIES:No School
END:VEVENT
BEGIN:VEVENT
DTSTART;TZID=America/Los_Angeles:20241122T074500
DTEND;TZID=America/Los_Angeles:20241122T141500
DTSTAMP:20260423T170142
CREATED:20240710T025053Z
LAST-MODIFIED:20240710T025053Z
UID:11645-1732261500-1732284900@sojournerschoolcommunity.com
SUMMARY:No school- Work Day/In-service Day
DESCRIPTION:
URL:https://sojournerschoolcommunity.com/event/no-school-work-day-in-service-day-2/
CATEGORIES:No School
END:VEVENT
BEGIN:VEVENT
DTSTART;TZID=America/Los_Angeles:20241111T074500
DTEND;TZID=America/Los_Angeles:20241111T141500
DTSTAMP:20260423T170142
CREATED:20240710T025015Z
LAST-MODIFIED:20240710T025015Z
UID:11643-1731311100-1731334500@sojournerschoolcommunity.com
SUMMARY:No school- Veterans Day
DESCRIPTION:
URL:https://sojournerschoolcommunity.com/event/no-school-veterans-day/
CATEGORIES:No School
END:VEVENT
BEGIN:VEVENT
DTSTART;TZID=America/Los_Angeles:20241104T074500
DTEND;TZID=America/Los_Angeles:20241104T141500
DTSTAMP:20260423T170142
CREATED:20240710T024939Z
LAST-MODIFIED:20240710T024939Z
UID:11641-1730706300-1730729700@sojournerschoolcommunity.com
SUMMARY:No School- Report card prep day
DESCRIPTION:
URL:https://sojournerschoolcommunity.com/event/no-school-report-card-prep-day/
CATEGORIES:No School
END:VEVENT
BEGIN:VEVENT
DTSTART;TZID=America/Los_Angeles:20241101T074500
DTEND;TZID=America/Los_Angeles:20241101T141500
DTSTAMP:20260423T170142
CREATED:20240710T024829Z
LAST-MODIFIED:20240710T024829Z
UID:11639-1730447100-1730470500@sojournerschoolcommunity.com
SUMMARY:No School- Work Day/In-service Day
DESCRIPTION:
URL:https://sojournerschoolcommunity.com/event/no-school-work-day-in-service-day/
CATEGORIES:No School
END:VEVENT
BEGIN:VEVENT
DTSTART;TZID=America/Los_Angeles:20241011T074500
DTEND;TZID=America/Los_Angeles:20241011T141500
DTSTAMP:20260423T170142
CREATED:20240710T024732Z
LAST-MODIFIED:20240710T024732Z
UID:11637-1728632700-1728656100@sojournerschoolcommunity.com
SUMMARY:No School
DESCRIPTION:
URL:https://sojournerschoolcommunity.com/event/no-school-5/
CATEGORIES:No School
END:VEVENT
BEGIN:VEVENT
DTSTART;TZID=America/Los_Angeles:20240909T074500
DTEND;TZID=America/Los_Angeles:20240909T141500
DTSTAMP:20260423T170142
CREATED:20240710T024614Z
LAST-MODIFIED:20240710T024614Z
UID:11635-1725867900-1725891300@sojournerschoolcommunity.com
SUMMARY:First day of Kindergarten
DESCRIPTION:
URL:https://sojournerschoolcommunity.com/event/first-day-of-kindergarten/
END:VEVENT
BEGIN:VEVENT
DTSTART;TZID=America/Los_Angeles:20240903T074500
DTEND;TZID=America/Los_Angeles:20240903T141500
DTSTAMP:20260423T170142
CREATED:20240710T024527Z
LAST-MODIFIED:20240710T024527Z
UID:11633-1725349500-1725372900@sojournerschoolcommunity.com
SUMMARY:First day of school 1st-5th Grades
DESCRIPTION:
URL:https://sojournerschoolcommunity.com/event/first-day-of-school-1st-5th-grades/
END:VEVENT
BEGIN:VEVENT
DTSTART;TZID=America/Los_Angeles:20240821T180000
DTEND;TZID=America/Los_Angeles:20240821T190000
DTSTAMP:20260423T170142
CREATED:20240710T024228Z
LAST-MODIFIED:20240710T024258Z
UID:11630-1724263200-1724266800@sojournerschoolcommunity.com
SUMMARY:Sojourner PTA Playdate
DESCRIPTION:
URL:https://sojournerschoolcommunity.com/event/sojourner-pta-playdate-4/
LOCATION:Risley Park\, 2350 SE Swain Ave\, Milwaukie\, OR\, 97267\, United States
CATEGORIES:PTA
END:VEVENT
BEGIN:VEVENT
DTSTART;TZID=America/Los_Angeles:20240811T110000
DTEND;TZID=America/Los_Angeles:20240811T120000
DTSTAMP:20260423T170142
CREATED:20240710T024119Z
LAST-MODIFIED:20240710T024430Z
UID:11627-1723374000-1723377600@sojournerschoolcommunity.com
SUMMARY:Sojourner PTA Playdate
DESCRIPTION:
URL:https://sojournerschoolcommunity.com/event/sojourner-pta-playdate-3/
LOCATION:North Clackamas Park Complex & Ball Fields\, 5440 SE Kellogg Creek Dr\, Milwaukie\, OR\, 97222\, United States
CATEGORIES:PTA
END:VEVENT
BEGIN:VEVENT
DTSTART;TZID=America/Los_Angeles:20240727T130000
DTEND;TZID=America/Los_Angeles:20240727T140000
DTSTAMP:20260423T170142
CREATED:20240710T023915Z
LAST-MODIFIED:20240710T023942Z
UID:11623-1722085200-1722088800@sojournerschoolcommunity.com
SUMMARY:Sojourner PTA Playdate
DESCRIPTION:
URL:https://sojournerschoolcommunity.com/event/11623/
LOCATION:Happy Valley Park\, 13770 SE Ridgecrest Rd\, Happy Valley\, OR\, 97086\, United States
CATEGORIES:PTA
END:VEVENT
BEGIN:VEVENT
DTSTART;TZID=America/Los_Angeles:20240710T180000
DTEND;TZID=America/Los_Angeles:20240710T190000
DTSTAMP:20260423T170142
CREATED:20240710T023435Z
LAST-MODIFIED:20240710T023610Z
UID:11619-1720634400-1720638000@sojournerschoolcommunity.com
SUMMARY:Sojourner PTA Playdate
DESCRIPTION:
URL:https://sojournerschoolcommunity.com/event/sojourner-pta-playdate-2/
LOCATION:Lot Whitcomb Elementary School\, 7400 SE Thompson Rd\, Milwaukie\, OR\, 97222\, United States
CATEGORIES:PTA
END:VEVENT
BEGIN:VEVENT
DTSTART;VALUE=DATE:20240527
DTEND;VALUE=DATE:20240528
DTSTAMP:20260423T170142
CREATED:20231126T055003Z
LAST-MODIFIED:20231126T055003Z
UID:11151-1716768000-1716854399@sojournerschoolcommunity.com
SUMMARY:No School - Memorial Day
DESCRIPTION:
URL:https://sojournerschoolcommunity.com/event/no-school-memorial-day/
CATEGORIES:No School
END:VEVENT
BEGIN:VEVENT
DTSTART;VALUE=DATE:20240524
DTEND;VALUE=DATE:20240525
DTSTAMP:20260423T170142
CREATED:20231126T054934Z
LAST-MODIFIED:20231126T054934Z
UID:11149-1716508800-1716595199@sojournerschoolcommunity.com
SUMMARY:No School
DESCRIPTION:
URL:https://sojournerschoolcommunity.com/event/no-school-4/
CATEGORIES:No School
END:VEVENT
BEGIN:VEVENT
DTSTART;TZID=America/Los_Angeles:20240516T180000
DTEND;TZID=America/Los_Angeles:20240516T193000
DTSTAMP:20260423T170142
CREATED:20231125T192429Z
LAST-MODIFIED:20231201T052604Z
UID:11120-1715882400-1715887800@sojournerschoolcommunity.com
SUMMARY:Community Mtg  (meet.google.com/qbi-xswi-afb)
DESCRIPTION:Community Meetings give the Sojourner community the opportunity to better their understanding of the role that the PTA and Sojourner Education Foundation hold within our school community. Attending meetings allows families to become more involved in their child’s education\, gives them the opportunity to understand the importance of fundraising and volunteering\, and how it’s integral to the longevity and robustness of school enrichment and special programming\, and lastly\,  it builds a bond between families\, administrators and teachers. \nCommunity meets are held in person at the school library and streamed online for those that cannot attend in person. Children are welcome to enjoy a quiet activity in the library during the meeting. 5/16/24 6:30-7:30pm Community Mtg  (meet.google.com/qbi-xswi-afb)
URL:https://sojournerschoolcommunity.com/event/community-mtg-meet-google-com-qbi-xswi-afb-3/
LOCATION:Library
CATEGORIES:PTA,SEF
ORGANIZER;CN="PTA":MAILTO:pta@sojournerschoolcommunity.com
END:VEVENT
BEGIN:VEVENT
DTSTART;TZID=America/Los_Angeles:20240514T190000
DTEND;TZID=America/Los_Angeles:20240514T203000
DTSTAMP:20260423T170142
CREATED:20231125T192318Z
LAST-MODIFIED:20231125T192318Z
UID:11118-1715713200-1715718600@sojournerschoolcommunity.com
SUMMARY:SEF Board Mtg (meet.google.com/xbi-bvqa-znq)
DESCRIPTION:5/14/24 7:00-8:30pm SEF Board Mtg (meet.google.com/xbi-bvqa-znq) Sojo community welcome to attend
URL:https://sojournerschoolcommunity.com/event/sef-board-mtg-meet-google-com-xbi-bvqa-znq-5/
LOCATION:Online
CATEGORIES:SEF
END:VEVENT
BEGIN:VEVENT
DTSTART;TZID=America/Los_Angeles:20240501T180000
DTEND;TZID=America/Los_Angeles:20240501T190000
DTSTAMP:20260423T170142
CREATED:20231125T192142Z
LAST-MODIFIED:20231201T060149Z
UID:11116-1714586400-1714590000@sojournerschoolcommunity.com
SUMMARY:Auction Committee Mtg (debrief)  (meet.google.com/gse-jtmb-nbr)
DESCRIPTION:Join the committee to plan our annual auction! Virtual monthly meetings where you can help:\n\n\nFind and Gather Donations\nGather and Plan Decor\nOther Event Logistics!\n\n\n5/1/24 6:00-7:00pm Auction Committee Mtg (debrief)  (meet.google.com/gse-jtmb-nbr)
URL:https://sojournerschoolcommunity.com/event/auction-committee-mtg-debrief-meet-google-com-gse-jtmb-nbr/
LOCATION:Online
CATEGORIES:Auction
END:VEVENT
END:VCALENDAR