BEGIN:VCALENDAR
VERSION:2.0
PRODID:-//Sojourner School Community - ECPv6.15.20//NONSGML v1.0//EN
CALSCALE:GREGORIAN
METHOD:PUBLISH
X-ORIGINAL-URL:https://sojournerschoolcommunity.com
X-WR-CALDESC:Events for Sojourner School Community
REFRESH-INTERVAL;VALUE=DURATION:PT1H
X-Robots-Tag:noindex
X-PUBLISHED-TTL:PT1H
BEGIN:VTIMEZONE
TZID:America/Los_Angeles
BEGIN:DAYLIGHT
TZOFFSETFROM:-0800
TZOFFSETTO:-0700
TZNAME:PDT
DTSTART:20220313T100000
END:DAYLIGHT
BEGIN:STANDARD
TZOFFSETFROM:-0700
TZOFFSETTO:-0800
TZNAME:PST
DTSTART:20221106T090000
END:STANDARD
BEGIN:DAYLIGHT
TZOFFSETFROM:-0800
TZOFFSETTO:-0700
TZNAME:PDT
DTSTART:20230312T100000
END:DAYLIGHT
BEGIN:STANDARD
TZOFFSETFROM:-0700
TZOFFSETTO:-0800
TZNAME:PST
DTSTART:20231105T090000
END:STANDARD
BEGIN:DAYLIGHT
TZOFFSETFROM:-0800
TZOFFSETTO:-0700
TZNAME:PDT
DTSTART:20240310T100000
END:DAYLIGHT
BEGIN:STANDARD
TZOFFSETFROM:-0700
TZOFFSETTO:-0800
TZNAME:PST
DTSTART:20241103T090000
END:STANDARD
BEGIN:DAYLIGHT
TZOFFSETFROM:-0800
TZOFFSETTO:-0700
TZNAME:PDT
DTSTART:20250309T100000
END:DAYLIGHT
BEGIN:STANDARD
TZOFFSETFROM:-0700
TZOFFSETTO:-0800
TZNAME:PST
DTSTART:20251102T090000
END:STANDARD
END:VTIMEZONE
BEGIN:VEVENT
DTSTART;VALUE=DATE:20240202
DTEND;VALUE=DATE:20240203
DTSTAMP:20260423T151401
CREATED:20231126T054248Z
LAST-MODIFIED:20231126T054410Z
UID:11133-1706832000-1706918399@sojournerschoolcommunity.com
SUMMARY:No School - Grade Report Preparation
DESCRIPTION:
URL:https://sojournerschoolcommunity.com/event/no-school-grade-report-preparation/
CATEGORIES:No School
END:VEVENT
BEGIN:VEVENT
DTSTART;TZID=America/Los_Angeles:20240118T180000
DTEND;TZID=America/Los_Angeles:20240118T190000
DTSTAMP:20260423T151401
CREATED:20231125T185551Z
LAST-MODIFIED:20231201T052720Z
UID:11090-1705600800-1705604400@sojournerschoolcommunity.com
SUMMARY:Community Mtg (meet.google.com/qbi-xswi-afb)
DESCRIPTION:Community Meetings give the Sojourner community the opportunity to better their understanding of the role that the PTA and Sojourner Education Foundation hold within our school community. Attending meetings allows families to become more involved in their child’s education\, gives them the opportunity to understand the importance of fundraising and volunteering\, and how it’s integral to the longevity and robustness of school enrichment and special programming\, and lastly\,  it builds a bond between families\, administrators and teachers. \nCommunity meets are held in person at the school library and streamed online for those that cannot attend in person. Children are welcome to enjoy a quiet activity in the library during the meeting. \n1/18/24 6:30-7:30pm Community Mtg (meet.google.com/qbi-xswi-afb)
URL:https://sojournerschoolcommunity.com/event/community-mtg-meet-google-com-qbi-xswi-afb/
LOCATION:Library
CATEGORIES:PTA,SEF
ORGANIZER;CN="PTA":MAILTO:pta@sojournerschoolcommunity.com
END:VEVENT
BEGIN:VEVENT
DTSTART;VALUE=DATE:20240115
DTEND;VALUE=DATE:20240116
DTSTAMP:20260423T151401
CREATED:20231126T054152Z
LAST-MODIFIED:20231126T054152Z
UID:11131-1705276800-1705363199@sojournerschoolcommunity.com
SUMMARY:No School - MLK Day
DESCRIPTION:
URL:https://sojournerschoolcommunity.com/event/no-school-mlk-day/
CATEGORIES:No School
END:VEVENT
BEGIN:VEVENT
DTSTART;TZID=America/Los_Angeles:20240109T180000
DTEND;TZID=America/Los_Angeles:20240109T190000
DTSTAMP:20260423T151401
CREATED:20231125T185222Z
LAST-MODIFIED:20231125T185222Z
UID:11088-1704823200-1704826800@sojournerschoolcommunity.com
SUMMARY:SEF Board Mtg (meet.google.com/xbi-bvqa-znq)
DESCRIPTION:1/9/24 6:00-7:00pm SEF Board Mtg (meet.google.com/xbi-bvqa-znq). All Sojo community welcome to attend.
URL:https://sojournerschoolcommunity.com/event/sef-board-mtg-meet-google-com-xbi-bvqa-znq/
CATEGORIES:SEF
END:VEVENT
BEGIN:VEVENT
DTSTART;TZID=America/Los_Angeles:20240103T180000
DTEND;TZID=America/Los_Angeles:20240103T190000
DTSTAMP:20260423T151401
CREATED:20231125T185046Z
LAST-MODIFIED:20231201T060419Z
UID:11086-1704304800-1704308400@sojournerschoolcommunity.com
SUMMARY:Auction Committee Mtg (meet.google.com/gse-jtmb-nbr)
DESCRIPTION:Join the committee to plan our annual auction! Virtual monthly meetings where you can help:\n\n\nFind and Gather Donations\nGather and Plan Decor\nOther Event Logistics!\n\n\n1/3/24 6:00-7:00pm Auction Committee Mtg (meet.google.com/gse-jtmb-nbr)
URL:https://sojournerschoolcommunity.com/event/auction-committee-mtg-meet-google-com-gse-jtmb-nbr-2/
LOCATION:Online
CATEGORIES:Auction
END:VEVENT
BEGIN:VEVENT
DTSTART;VALUE=DATE:20231218
DTEND;VALUE=DATE:20240103
DTSTAMP:20260423T151401
CREATED:20231126T013058Z
LAST-MODIFIED:20231126T013058Z
UID:11129-1702857600-1704239999@sojournerschoolcommunity.com
SUMMARY:No School Winter Break
DESCRIPTION:
URL:https://sojournerschoolcommunity.com/event/no-school-winter-break/
CATEGORIES:No School
END:VEVENT
BEGIN:VEVENT
DTSTART;TZID=America/Los_Angeles:20231207T190000
DTEND;TZID=America/Los_Angeles:20231207T200000
DTSTAMP:20260423T151401
CREATED:20231125T184859Z
LAST-MODIFIED:20231125T184859Z
UID:11084-1701975600-1701979200@sojournerschoolcommunity.com
SUMMARY:SEF Board Mtg (meet.google.com/nfe-grmr-vur) *pending*
DESCRIPTION:12/7/23 7:00-8:30pm SEF Board Mtg (meet.google.com/nfe-grmr-vur) *pending*
URL:https://sojournerschoolcommunity.com/event/sef-board-mtg-meet-google-com-nfe-grmr-vur-pending/
LOCATION:Online
END:VEVENT
BEGIN:VEVENT
DTSTART;TZID=America/Los_Angeles:20231129T180000
DTEND;TZID=America/Los_Angeles:20231129T190000
DTSTAMP:20260423T151401
CREATED:20231125T184651Z
LAST-MODIFIED:20231201T060441Z
UID:11081-1701280800-1701284400@sojournerschoolcommunity.com
SUMMARY:Auction Committee Mtg (meet.google.com/gse-jtmb-nbr)
DESCRIPTION:Join the committee to plan our annual auction! Virtual monthly meetings where you can help:\n\n\nFind and Gather Donations\nGather and Plan Decor\nOther Event Logistics!\n\n\n11/29/23\, 6:00-7:00 Auction Committee Mtg (meet.google.com/gse-jtmb-nbr)
URL:https://sojournerschoolcommunity.com/event/auction-committee-mtg-meet-google-com-gse-jtmb-nbr/
LOCATION:Online
CATEGORIES:Auction
END:VEVENT
BEGIN:VEVENT
DTSTART;VALUE=DATE:20231122
DTEND;VALUE=DATE:20231125
DTSTAMP:20260423T151401
CREATED:20231120T053016Z
LAST-MODIFIED:20231120T053016Z
UID:11079-1700611200-1700870399@sojournerschoolcommunity.com
SUMMARY:No School
DESCRIPTION:
URL:https://sojournerschoolcommunity.com/event/no-school-2/
CATEGORIES:No School
END:VEVENT
BEGIN:VEVENT
DTSTART;VALUE=DATE:20231120
DTEND;VALUE=DATE:20231122
DTSTAMP:20260423T151401
CREATED:20231120T052936Z
LAST-MODIFIED:20231120T052936Z
UID:11077-1700438400-1700611199@sojournerschoolcommunity.com
SUMMARY:Parent Teacher Conferences - No School
DESCRIPTION:
URL:https://sojournerschoolcommunity.com/event/parent-teacher-conferences-no-school/
CATEGORIES:No School
END:VEVENT
BEGIN:VEVENT
DTSTART;VALUE=DATE:20231117
DTEND;VALUE=DATE:20231118
DTSTAMP:20260423T151401
CREATED:20231112T211653Z
LAST-MODIFIED:20231112T211653Z
UID:11064-1700179200-1700265599@sojournerschoolcommunity.com
SUMMARY:No School
DESCRIPTION:
URL:https://sojournerschoolcommunity.com/event/no-school/
END:VEVENT
BEGIN:VEVENT
DTSTART;TZID=America/Los_Angeles:20231116T183000
DTEND;TZID=America/Los_Angeles:20231116T193000
DTSTAMP:20260423T151401
CREATED:20230913T050840Z
LAST-MODIFIED:20230915T043712Z
UID:10972-1700159400-1700163000@sojournerschoolcommunity.com
SUMMARY:Community Meeting (virtual and at library)
DESCRIPTION:[et_pb_section fb_built=”1″ custom_padding_last_edited=”on|desktop” admin_label=”Section” _builder_version=”4.16″ background_color=”#ffffff” custom_padding_tablet=”50px|0|50px|0″ custom_padding_phone=”” transparent_background=”off” padding_mobile=”off” make_fullwidth=”off” use_custom_width=”off” width_unit=”on” global_colors_info=”{}”][/et_pb_section]
URL:https://sojournerschoolcommunity.com/event/community-meeting-virtual-and-at-library-2/
END:VEVENT
BEGIN:VEVENT
DTSTART;TZID=America/Los_Angeles:20230928T080000
DTEND;TZID=America/Los_Angeles:20230928T090000
DTSTAMP:20260423T151401
CREATED:20230920T055336Z
LAST-MODIFIED:20230920T061610Z
UID:10991-1695888000-1695891600@sojournerschoolcommunity.com
SUMMARY:Jog-a-thon
DESCRIPTION:
URL:https://sojournerschoolcommunity.com/event/jog-a-thon/
END:VEVENT
BEGIN:VEVENT
DTSTART;TZID=America/Los_Angeles:20230921T183000
DTEND;TZID=America/Los_Angeles:20230921T193000
DTSTAMP:20260423T151401
CREATED:20230913T050549Z
LAST-MODIFIED:20231201T052836Z
UID:10968-1695321000-1695324600@sojournerschoolcommunity.com
SUMMARY:Community Meeting (virtual and at library)
DESCRIPTION:
URL:https://sojournerschoolcommunity.com/event/community-meeting-virtual-and-at-library/
LOCATION:Library
END:VEVENT
BEGIN:VEVENT
DTSTART;TZID=America/Los_Angeles:20230914T170000
DTEND;TZID=America/Los_Angeles:20230914T181500
DTSTAMP:20260423T151401
CREATED:20230913T044952Z
LAST-MODIFIED:20230913T044952Z
UID:10962-1694710800-1694715300@sojournerschoolcommunity.com
SUMMARY:Back To School Night (adults only)
DESCRIPTION:
URL:https://sojournerschoolcommunity.com/event/back-to-school-night-adults-only/
END:VEVENT
END:VCALENDAR