BEGIN:VCALENDAR
VERSION:2.0
PRODID:-//Sojourner School Community - ECPv6.15.20//NONSGML v1.0//EN
CALSCALE:GREGORIAN
METHOD:PUBLISH
X-WR-CALNAME:Sojourner School Community
X-ORIGINAL-URL:https://sojournerschoolcommunity.com
X-WR-CALDESC:Events for Sojourner School Community
REFRESH-INTERVAL;VALUE=DURATION:PT1H
X-Robots-Tag:noindex
X-PUBLISHED-TTL:PT1H
BEGIN:VTIMEZONE
TZID:America/Los_Angeles
BEGIN:DAYLIGHT
TZOFFSETFROM:-0800
TZOFFSETTO:-0700
TZNAME:PDT
DTSTART:20230312T100000
END:DAYLIGHT
BEGIN:STANDARD
TZOFFSETFROM:-0700
TZOFFSETTO:-0800
TZNAME:PST
DTSTART:20231105T090000
END:STANDARD
BEGIN:DAYLIGHT
TZOFFSETFROM:-0800
TZOFFSETTO:-0700
TZNAME:PDT
DTSTART:20240310T100000
END:DAYLIGHT
BEGIN:STANDARD
TZOFFSETFROM:-0700
TZOFFSETTO:-0800
TZNAME:PST
DTSTART:20241103T090000
END:STANDARD
BEGIN:DAYLIGHT
TZOFFSETFROM:-0800
TZOFFSETTO:-0700
TZNAME:PDT
DTSTART:20250309T100000
END:DAYLIGHT
BEGIN:STANDARD
TZOFFSETFROM:-0700
TZOFFSETTO:-0800
TZNAME:PST
DTSTART:20251102T090000
END:STANDARD
END:VTIMEZONE
BEGIN:VEVENT
DTSTART;VALUE=DATE:20240306
DTEND;VALUE=DATE:20240309
DTSTAMP:20260424T211212
CREATED:20231126T054642Z
LAST-MODIFIED:20231126T054642Z
UID:11141-1709683200-1709942399@sojournerschoolcommunity.com
SUMMARY:No School - Conferences
DESCRIPTION:
URL:https://sojournerschoolcommunity.com/event/no-school-conferences/
CATEGORIES:No School
END:VEVENT
BEGIN:VEVENT
DTSTART;TZID=America/Los_Angeles:20240306T180000
DTEND;TZID=America/Los_Angeles:20240306T190000
DTSTAMP:20260424T211212
CREATED:20231125T190824Z
LAST-MODIFIED:20231201T060300Z
UID:11100-1709748000-1709751600@sojournerschoolcommunity.com
SUMMARY:Auction Committee Mtg  (meet.google.com/gse-jtmb-nbr)
DESCRIPTION:Join the committee to plan our annual auction! Virtual monthly meetings where you can help:\n\n\nFind and Gather Donations\nGather and Plan Decor\nOther Event Logistics!\n\n\n3/6/24 6:00-7:00pm Auction Committee Mtg  (meet.google.com/gse-jtmb-nbr)
URL:https://sojournerschoolcommunity.com/event/auction-committee-mtg-meet-google-com-gse-jtmb-nbr-4/
LOCATION:Online
CATEGORIES:Auction
ORGANIZER;CN="SEF":MAILTO:sef@sojournerschoolcommunity.com
END:VEVENT
BEGIN:VEVENT
DTSTART;TZID=America/Los_Angeles:20240312T190000
DTEND;TZID=America/Los_Angeles:20240312T203000
DTSTAMP:20260424T211212
CREATED:20231125T190939Z
LAST-MODIFIED:20231125T190939Z
UID:11102-1710270000-1710275400@sojournerschoolcommunity.com
SUMMARY:SEF Board Mtg (meet.google.com/xbi-bvqa-znq)
DESCRIPTION:3/12/24 7:00-8:30 SEF Board Mtg (meet.google.com/xbi-bvqa-znq)
URL:https://sojournerschoolcommunity.com/event/sef-board-mtg-meet-google-com-xbi-bvqa-znq-3/
CATEGORIES:SEF
ORGANIZER;CN="SEF":MAILTO:sef@sojournerschoolcommunity.com
END:VEVENT
BEGIN:VEVENT
DTSTART;TZID=America/Los_Angeles:20240321T183000
DTEND;TZID=America/Los_Angeles:20240321T193000
DTSTAMP:20260424T211212
CREATED:20231125T191055Z
LAST-MODIFIED:20231201T052640Z
UID:11104-1711045800-1711049400@sojournerschoolcommunity.com
SUMMARY:Community Mtg (meet.google.com/qbi-xswi-afb)
DESCRIPTION:Community Meetings give the Sojourner community the opportunity to better their understanding of the role that the PTA and Sojourner Education Foundation hold within our school community. Attending meetings allows families to become more involved in their child’s education\, gives them the opportunity to understand the importance of fundraising and volunteering\, and how it’s integral to the longevity and robustness of school enrichment and special programming\, and lastly\,  it builds a bond between families\, administrators and teachers. \nCommunity meets are held in person at the school library and streamed online for those that cannot attend in person. Children are welcome to enjoy a quiet activity in the library during the meeting. \n\n3/21/24 6:30-7:30pm Community Mtg (meet.google.com/qbi-xswi-afb)
URL:https://sojournerschoolcommunity.com/event/community-mtg-meet-google-com-qbi-xswi-afb-2/
LOCATION:Library
CATEGORIES:PTA,SEF
ORGANIZER;CN="PTA":MAILTO:pta@sojournerschoolcommunity.com
END:VEVENT
BEGIN:VEVENT
DTSTART;VALUE=DATE:20240325
DTEND;VALUE=DATE:20240330
DTSTAMP:20260424T211212
CREATED:20231126T054723Z
LAST-MODIFIED:20231126T054723Z
UID:11143-1711324800-1711756799@sojournerschoolcommunity.com
SUMMARY:No School - Spring Break
DESCRIPTION:
URL:https://sojournerschoolcommunity.com/event/no-school-spring-break/
CATEGORIES:No School
END:VEVENT
END:VCALENDAR