BEGIN:VCALENDAR
VERSION:2.0
PRODID:-//Sojourner School Community - ECPv6.15.20//NONSGML v1.0//EN
CALSCALE:GREGORIAN
METHOD:PUBLISH
X-ORIGINAL-URL:https://sojournerschoolcommunity.com
X-WR-CALDESC:Events for Sojourner School Community
REFRESH-INTERVAL;VALUE=DURATION:PT1H
X-Robots-Tag:noindex
X-PUBLISHED-TTL:PT1H
BEGIN:VTIMEZONE
TZID:America/Los_Angeles
BEGIN:DAYLIGHT
TZOFFSETFROM:-0800
TZOFFSETTO:-0700
TZNAME:PDT
DTSTART:20230312T100000
END:DAYLIGHT
BEGIN:STANDARD
TZOFFSETFROM:-0700
TZOFFSETTO:-0800
TZNAME:PST
DTSTART:20231105T090000
END:STANDARD
BEGIN:DAYLIGHT
TZOFFSETFROM:-0800
TZOFFSETTO:-0700
TZNAME:PDT
DTSTART:20240310T100000
END:DAYLIGHT
BEGIN:STANDARD
TZOFFSETFROM:-0700
TZOFFSETTO:-0800
TZNAME:PST
DTSTART:20241103T090000
END:STANDARD
BEGIN:DAYLIGHT
TZOFFSETFROM:-0800
TZOFFSETTO:-0700
TZNAME:PDT
DTSTART:20250309T100000
END:DAYLIGHT
BEGIN:STANDARD
TZOFFSETFROM:-0700
TZOFFSETTO:-0800
TZNAME:PST
DTSTART:20251102T090000
END:STANDARD
END:VTIMEZONE
BEGIN:VEVENT
DTSTART;TZID=America/Los_Angeles:20240403T180000
DTEND;TZID=America/Los_Angeles:20240403T190000
DTSTAMP:20260424T195047
CREATED:20231125T191343Z
LAST-MODIFIED:20231201T060241Z
UID:11106-1712167200-1712170800@sojournerschoolcommunity.com
SUMMARY:Auction Committee Mtg  (meet.google.com/gse-jtmb-nbr)
DESCRIPTION:Join the committee to plan our annual auction! Virtual monthly meetings where you can help:\n\n\nFind and Gather Donations\nGather and Plan Decor\nOther Event Logistics!\n\n\n4/3/24 6:00-7:00 Auction Committee Mtg  (meet.google.com/gse-jtmb-nbr)
URL:https://sojournerschoolcommunity.com/event/auction-committee-mtg-meet-google-com-gse-jtmb-nbr-5/
LOCATION:Online
CATEGORIES:Auction
ORGANIZER;CN="SEF":MAILTO:sef@sojournerschoolcommunity.com
END:VEVENT
BEGIN:VEVENT
DTSTART;TZID=America/Los_Angeles:20240409T190000
DTEND;TZID=America/Los_Angeles:20240409T203000
DTSTAMP:20260424T195047
CREATED:20231125T191600Z
LAST-MODIFIED:20231125T191600Z
UID:11108-1712689200-1712694600@sojournerschoolcommunity.com
SUMMARY:SEF Board Mtg (meet.google.com/xbi-bvqa-znq)
DESCRIPTION:4/9/24 7:00-8:30 SEF Board Mtg (meet.google.com/xbi-bvqa-znq) Sojo community welcome to attend.
URL:https://sojournerschoolcommunity.com/event/sef-board-mtg-meet-google-com-xbi-bvqa-znq-4/
LOCATION:Online
CATEGORIES:SEF
ORGANIZER;CN="SEF":MAILTO:sef@sojournerschoolcommunity.com
END:VEVENT
BEGIN:VEVENT
DTSTART;VALUE=DATE:20240412
DTEND;VALUE=DATE:20240413
DTSTAMP:20260424T195047
CREATED:20231126T054824Z
LAST-MODIFIED:20231126T054824Z
UID:11145-1712880000-1712966399@sojournerschoolcommunity.com
SUMMARY:No School - Grade Report Preparation
DESCRIPTION:
URL:https://sojournerschoolcommunity.com/event/no-school-grade-report-preparation-2/
CATEGORIES:No School
END:VEVENT
BEGIN:VEVENT
DTSTART;VALUE=DATE:20240415
DTEND;VALUE=DATE:20240416
DTSTAMP:20260424T195047
CREATED:20231126T054850Z
LAST-MODIFIED:20231126T054850Z
UID:11147-1713139200-1713225599@sojournerschoolcommunity.com
SUMMARY:No School
DESCRIPTION:
URL:https://sojournerschoolcommunity.com/event/no-school-3/
CATEGORIES:No School
END:VEVENT
BEGIN:VEVENT
DTSTART;TZID=America/Los_Angeles:20240417T180000
DTEND;TZID=America/Los_Angeles:20240417T190000
DTSTAMP:20260424T195047
CREATED:20231125T191708Z
LAST-MODIFIED:20231201T060209Z
UID:11110-1713376800-1713380400@sojournerschoolcommunity.com
SUMMARY:Auction Committee Mtg  (meet.google.com/gse-jtmb-nbr)
DESCRIPTION:Join the committee to plan our annual auction! Virtual monthly meetings where you can help:\n\n\nFind and Gather Donations\nGather and Plan Decor\nOther Event Logistics!\n\n\n4/17/24 6:00-7:00 Auction Committee Mtg  (meet.google.com/gse-jtmb-nbr)
URL:https://sojournerschoolcommunity.com/event/auction-committee-mtg-meet-google-com-gse-jtmb-nbr-6/
LOCATION:Online
CATEGORIES:Auction
END:VEVENT
BEGIN:VEVENT
DTSTART;TZID=America/Los_Angeles:20240427T183000
DTEND;TZID=America/Los_Angeles:20240427T210000
DTSTAMP:20260424T195047
CREATED:20231125T192004Z
LAST-MODIFIED:20231201T061134Z
UID:11114-1714242600-1714251600@sojournerschoolcommunity.com
SUMMARY:AUCTION
DESCRIPTION:4/27/24 AUCTION (timing TBD)
URL:https://sojournerschoolcommunity.com/event/auction/
CATEGORIES:Auction
ATTACH;FMTTYPE=image/jpeg:https://sojournerschoolcommunity.com/wp-content/uploads/2023/11/2024-Sojourner-Auction-Square-Graphic.jpg
ORGANIZER;CN="SEF":MAILTO:sef@sojournerschoolcommunity.com
END:VEVENT
END:VCALENDAR