BEGIN:VCALENDAR
VERSION:2.0
PRODID:-//Sojourner School Community - ECPv6.15.20//NONSGML v1.0//EN
CALSCALE:GREGORIAN
METHOD:PUBLISH
X-WR-CALNAME:Sojourner School Community
X-ORIGINAL-URL:https://sojournerschoolcommunity.com
X-WR-CALDESC:Events for Sojourner School Community
REFRESH-INTERVAL;VALUE=DURATION:PT1H
X-Robots-Tag:noindex
X-PUBLISHED-TTL:PT1H
BEGIN:VTIMEZONE
TZID:America/Los_Angeles
BEGIN:DAYLIGHT
TZOFFSETFROM:-0800
TZOFFSETTO:-0700
TZNAME:PDT
DTSTART:20230312T100000
END:DAYLIGHT
BEGIN:STANDARD
TZOFFSETFROM:-0700
TZOFFSETTO:-0800
TZNAME:PST
DTSTART:20231105T090000
END:STANDARD
BEGIN:DAYLIGHT
TZOFFSETFROM:-0800
TZOFFSETTO:-0700
TZNAME:PDT
DTSTART:20240310T100000
END:DAYLIGHT
BEGIN:STANDARD
TZOFFSETFROM:-0700
TZOFFSETTO:-0800
TZNAME:PST
DTSTART:20241103T090000
END:STANDARD
BEGIN:DAYLIGHT
TZOFFSETFROM:-0800
TZOFFSETTO:-0700
TZNAME:PDT
DTSTART:20250309T100000
END:DAYLIGHT
BEGIN:STANDARD
TZOFFSETFROM:-0700
TZOFFSETTO:-0800
TZNAME:PST
DTSTART:20251102T090000
END:STANDARD
END:VTIMEZONE
BEGIN:VEVENT
DTSTART;TZID=America/Los_Angeles:20240903T074500
DTEND;TZID=America/Los_Angeles:20240903T141500
DTSTAMP:20260424T132454
CREATED:20240710T024527Z
LAST-MODIFIED:20240710T024527Z
UID:11633-1725349500-1725372900@sojournerschoolcommunity.com
SUMMARY:First day of school 1st-5th Grades
DESCRIPTION:
URL:https://sojournerschoolcommunity.com/event/first-day-of-school-1st-5th-grades/
END:VEVENT
BEGIN:VEVENT
DTSTART;TZID=America/Los_Angeles:20240909T074500
DTEND;TZID=America/Los_Angeles:20240909T141500
DTSTAMP:20260424T132454
CREATED:20240710T024614Z
LAST-MODIFIED:20240710T024614Z
UID:11635-1725867900-1725891300@sojournerschoolcommunity.com
SUMMARY:First day of Kindergarten
DESCRIPTION:
URL:https://sojournerschoolcommunity.com/event/first-day-of-kindergarten/
END:VEVENT
END:VCALENDAR